BEGIN:VCALENDAR
VERSION:2.0
PRODID:-//Bürgerverein Unglinghausen - ECPv6.15.20//NONSGML v1.0//EN
CALSCALE:GREGORIAN
METHOD:PUBLISH
X-WR-CALNAME:Bürgerverein Unglinghausen
X-ORIGINAL-URL:https://bv-unglinghausen.de
X-WR-CALDESC:Veranstaltungen für Bürgerverein Unglinghausen
REFRESH-INTERVAL;VALUE=DURATION:PT1H
X-Robots-Tag:noindex
X-PUBLISHED-TTL:PT1H
BEGIN:VTIMEZONE
TZID:UTC
BEGIN:STANDARD
TZOFFSETFROM:+0000
TZOFFSETTO:+0000
TZNAME:UTC
DTSTART:20210101T000000
END:STANDARD
END:VTIMEZONE
BEGIN:VEVENT
DTSTART;TZID=UTC:20220116T120000
DTEND;TZID=UTC:20220116T130000
DTSTAMP:20260424T032853
CREATED:20220117T144725Z
LAST-MODIFIED:20220117T144726Z
UID:235-1642334400-1642338000@bv-unglinghausen.de
SUMMARY:Erbensuppe to go
DESCRIPTION:Zum Auftakt im neuen Jahr lädt der Bürgerverein Unglinghausen wieder herzlich ein\, sich frische\, hausgemachte „stiffe Sobbe“ nach Hause zu holen.
URL:https://bv-unglinghausen.de/event/erbensuppe-to-go/
LOCATION:Bürgerbegegnungsstätte Unglinghausen\, Hauptstraße 54\, Netphen\, 57250\, Deutschland
END:VEVENT
BEGIN:VEVENT
DTSTART;TZID=UTC:20220123T120000
DTEND;TZID=UTC:20220123T130000
DTSTAMP:20260424T032854
CREATED:20220117T144833Z
LAST-MODIFIED:20220117T145012Z
UID:237-1642939200-1642942800@bv-unglinghausen.de
SUMMARY:Linsensuppe to go
DESCRIPTION:Zum Auftakt im neuen Jahr lädt der Bürgerverein Unglinghausen wieder herzlich ein\, sich frische\, hausgemachte „stiffe Sobbe“ nach Hause zu holen. \n\n\n\nAlles\, was man dafür tun muss\, ist ein hitzebständiges Gefäß einzupacken und zur Bürgerbegegnungsstätte Unglinghausen zu kommen! \n\n\n\nFür 5\,00 € gibt es eine große Portion leckere Suppe so lange der Vorrat reicht.
URL:https://bv-unglinghausen.de/event/linsensuppe-to-go/
LOCATION:Bürgerbegegnungsstätte Unglinghausen\, Hauptstraße 54\, Netphen\, 57250\, Deutschland
END:VEVENT
END:VCALENDAR