BEGIN:VCALENDAR
VERSION:2.0
PRODID:-//Bürgerverein Unglinghausen - ECPv6.15.20//NONSGML v1.0//EN
CALSCALE:GREGORIAN
METHOD:PUBLISH
X-WR-CALNAME:Bürgerverein Unglinghausen
X-ORIGINAL-URL:https://bv-unglinghausen.de
X-WR-CALDESC:Veranstaltungen für Bürgerverein Unglinghausen
REFRESH-INTERVAL;VALUE=DURATION:PT1H
X-Robots-Tag:noindex
X-PUBLISHED-TTL:PT1H
BEGIN:VTIMEZONE
TZID:UTC
BEGIN:STANDARD
TZOFFSETFROM:+0000
TZOFFSETTO:+0000
TZNAME:UTC
DTSTART:20210101T000000
END:STANDARD
END:VTIMEZONE
BEGIN:VEVENT
DTSTART;TZID=UTC:20220213T120000
DTEND;TZID=UTC:20220213T130000
DTSTAMP:20260424T014123
CREATED:20220126T184609Z
LAST-MODIFIED:20220126T185055Z
UID:268-1644753600-1644757200@bv-unglinghausen.de
SUMMARY:Serbische Bohnensuppe to go
DESCRIPTION:Der Bürgerverein lädt herzlich zur nächsten Runde frischer\, hausgemachter Suppe to go ein. \n\n\n\nAls Highlight gibt es leckere „Serbische Bohnensuppe nach Cvietjas Art“. \n\n\n\nAlles\, was man dafür tun muss\, ist ein hitzebständiges Gefäß einzupacken und zur Bürgerbegegnungsstätte Unglinghausen zu kommen!
URL:https://bv-unglinghausen.de/event/suppe-to-go-serbische-bohnensuppe-nach-cvietjas-art/
LOCATION:Bürgerbegegnungsstätte Unglinghausen\, Hauptstraße 54\, Netphen\, 57250\, Deutschland
END:VEVENT
BEGIN:VEVENT
DTSTART;TZID=UTC:20220220T120000
DTEND;TZID=UTC:20220220T130000
DTSTAMP:20260424T014123
CREATED:20220130T095637Z
LAST-MODIFIED:20220130T095639Z
UID:274-1645358400-1645362000@bv-unglinghausen.de
SUMMARY:Gulaschsuppe to go
DESCRIPTION:Der Bürgerverein lädt herzlich zur nächsten Runde frischer\, hausgemachter Suppe to go ein. \n\n\n\nAlles\, was man dafür tun muss\, ist ein hitzebständiges Gefäß einzupacken und zur Bürgerbegegnungsstätte Unglinghausen zu kommen!
URL:https://bv-unglinghausen.de/event/gulaschsuppe-to-go/
LOCATION:Bürgerbegegnungsstätte Unglinghausen\, Hauptstraße 54\, Netphen\, 57250\, Deutschland
END:VEVENT
END:VCALENDAR