BEGIN:VCALENDAR
VERSION:2.0
PRODID:-//Bürgerverein Unglinghausen - ECPv6.15.20//NONSGML v1.0//EN
CALSCALE:GREGORIAN
METHOD:PUBLISH
X-ORIGINAL-URL:https://bv-unglinghausen.de
X-WR-CALDESC:Veranstaltungen für Bürgerverein Unglinghausen
REFRESH-INTERVAL;VALUE=DURATION:PT1H
X-Robots-Tag:noindex
X-PUBLISHED-TTL:PT1H
BEGIN:VTIMEZONE
TZID:UTC
BEGIN:STANDARD
TZOFFSETFROM:+0000
TZOFFSETTO:+0000
TZNAME:UTC
DTSTART:20210101T000000
END:STANDARD
END:VTIMEZONE
BEGIN:VEVENT
DTSTART;TZID=UTC:20220501T100000
DTEND;TZID=UTC:20220501T170000
DTSTAMP:20260423T205748
CREATED:20211123T172613Z
LAST-MODIFIED:20220408T121600Z
UID:154-1651399200-1651424400@bv-unglinghausen.de
SUMMARY:Maifest
DESCRIPTION:Der Bürgerverein lädt in Kooperation mit der Feuerwehr Unglinghausen herzlich zum fröhlichen Beisammensein ein. \n\n\n\nAm 1. Mai 2022 von 11.00 bis 17.00 Uhr am Platz der Bürgerbegegnungsstätte! \n\n\n\nFür das leibliche Wohl ist über den Tag gut gesorgt\, neben kräftiger Suppe (solange der Vorrat reicht)\, kann man sich auch mit frischen Waffeln und leckerer Grillwurst stärken. \n\n\n\nEine besondere Attraktion für Klein und Groß bietet die Feuerwehr Unglinghausen ab 12.30 Uhr mit der Besichtigung des Löschfahrzeuges\, einer großen Feuerwehrhüpfburg und vielen tollen Mitmachaktionen. \n\n\n\nAm Abend zuvor wird der Maibaum geschmückt und aufgestellt! \n\n\n\nWie immer bitten wir – auch bei diesen Veranstaltungen – um die Einhaltung der aktuell geltenden Coronaregeln und Hygienemaßnahmen. \n\n\n\nDer Vorstand
URL:https://bv-unglinghausen.de/event/maifest/
LOCATION:Bürgerbegegnungsstätte Unglinghausen\, Hauptstraße 54\, Netphen\, 57250\, Deutschland
END:VEVENT
BEGIN:VEVENT
DTSTART;TZID=UTC:20220506T183000
DTEND;TZID=UTC:20220506T210000
DTSTAMP:20260423T205748
CREATED:20220416T090947Z
LAST-MODIFIED:20220416T090949Z
UID:425-1651861800-1651870800@bv-unglinghausen.de
SUMMARY:Jahreshauptversammlung
DESCRIPTION:Satzungsgemäß laden wir hiermit zur Jahreshauptversammlung des Bürgerverein Unglinghausen e.V. für Freitag\, 06.05.2022\, 18.30 Uhr\, in die Bürgerbegegnungsstätte Unglinghausen\, ein. \n\n\n\nVorgesehene Tagesordnung: \n\n\n\nBegrüßung und TotenehrungAnträge auf Erweiterung/Änderung der TagesordnungGenehmigung der Niederschrift der Jahreshauptversammlung vom 10.09.2021Kassenbericht/KassenprüfberichtTätigkeitsbericht des VorstandesEntlastung des Schatzmeisters und des VorstandesWahlenBestimmung von 2 Wahlhelfern/WahlhelferinnenVorstandswahlen (Wahl eines/einer stellvertretenden Vorsitzenden\, Wahl eines/einer Schriftführers/Schriftführerin)Wahl der Kassenprüfer/innen für 2022EhrungenVorstellung neue Homepage des Bürgervereins„Stellenausschreibung“ für Tätigkeiten im und für den Bürgerverein wie z.B. Mithilfe bei der Erstellung bzw. Verteilung von Flyern\, Hausmeistertätigkeiten\, Ersatzbeisitzer/innen\, VeranstaltungsabrechnungÄnderung des Trägervertrages der Bürgerbegegnungsstätte Unglinghausen aufgrund der Inanspruchnahme von Räumlichkeiten durch die Stadt zugunsten der FeuerwehrBeitragsanpassungAktivitäten und ProjekteVerschiedenes\n\n\n\nAnträge auf Änderung und/oder Erweiterung der Tagesordnung sind dem Vorstand schriftlich vor Sitzungsbeginn zuzuleiten. Es wird darauf hingewiesen\, dass die Veranstaltung unabhängig von der Anzahl der erschienenen Mitglieder beschlussfähig ist. Im Anschluss an die Veranstaltung wird ein Imbiss gereicht. \n\n\n\nDer Vorstand
URL:https://bv-unglinghausen.de/event/jahreshauptversammlung/
LOCATION:Bürgerbegegnungsstätte Unglinghausen\, Hauptstraße 54\, Netphen\, 57250\, Deutschland
END:VEVENT
BEGIN:VEVENT
DTSTART;TZID=UTC:20220515T080000
DTEND;TZID=UTC:20220515T180000
DTSTAMP:20260423T205748
CREATED:20220126T183346Z
LAST-MODIFIED:20220126T183413Z
UID:264-1652601600-1652637600@bv-unglinghausen.de
SUMMARY:Landtagswahl
DESCRIPTION:Landtagswahl 2022.
URL:https://bv-unglinghausen.de/event/landtagswahl/
LOCATION:Bürgerbegegnungsstätte Unglinghausen\, Hauptstraße 54\, Netphen\, 57250\, Deutschland
END:VEVENT
END:VCALENDAR