BEGIN:VCALENDAR
VERSION:2.0
PRODID:-//Bürgerverein Unglinghausen - ECPv6.15.20//NONSGML v1.0//EN
CALSCALE:GREGORIAN
METHOD:PUBLISH
X-ORIGINAL-URL:https://bv-unglinghausen.de
X-WR-CALDESC:Veranstaltungen für Bürgerverein Unglinghausen
REFRESH-INTERVAL;VALUE=DURATION:PT1H
X-Robots-Tag:noindex
X-PUBLISHED-TTL:PT1H
BEGIN:VTIMEZONE
TZID:UTC
BEGIN:STANDARD
TZOFFSETFROM:+0000
TZOFFSETTO:+0000
TZNAME:UTC
DTSTART:20210101T000000
END:STANDARD
END:VTIMEZONE
BEGIN:VEVENT
DTSTART;TZID=UTC:20220624T180000
DTEND;TZID=UTC:20220624T220000
DTSTAMP:20260423T191452
CREATED:20211128T102005Z
LAST-MODIFIED:20220609T181140Z
UID:206-1656093600-1656108000@bv-unglinghausen.de
SUMMARY:Rock Sommer
DESCRIPTION:Der Bürgerverein Unglinghausen e.V. eröffnet die Sommer-Saison mit einem Rockevent am Dorfplatz an der Bürgerbegegnungsstätte. \n\n\n\nEs ist uns eine große Freude\, zusammen mit den ortsansässigen HAUBERRIES einen schönen Abend mit Livemusik zubieten. \n\n\n\nGegen 18:00 Uhr öffnet das „Festivalgelände“ ihre Pforten. Der Auftritt der Band ist für ca. 19:30 Uhr vorgesehen. Für das leibliche Wohl wird selbstverständlich gesorgt.
URL:https://bv-unglinghausen.de/event/rock-into-the-summer-ft-hauberrys/
LOCATION:Bürgerbegegnungsstätte Unglinghausen\, Hauptstraße 54\, Netphen\, 57250\, Deutschland
END:VEVENT
END:VCALENDAR