BEGIN:VCALENDAR
VERSION:2.0
PRODID:-//Bürgerverein Unglinghausen - ECPv6.15.20//NONSGML v1.0//EN
CALSCALE:GREGORIAN
METHOD:PUBLISH
X-ORIGINAL-URL:https://bv-unglinghausen.de
X-WR-CALDESC:Veranstaltungen für Bürgerverein Unglinghausen
REFRESH-INTERVAL;VALUE=DURATION:PT1H
X-Robots-Tag:noindex
X-PUBLISHED-TTL:PT1H
BEGIN:VTIMEZONE
TZID:UTC
BEGIN:STANDARD
TZOFFSETFROM:+0000
TZOFFSETTO:+0000
TZNAME:UTC
DTSTART:20210101T000000
END:STANDARD
END:VTIMEZONE
BEGIN:VEVENT
DTSTART;TZID=UTC:20220701T180000
DTEND;TZID=UTC:20220701T220000
DTSTAMP:20260423T171708
CREATED:20211124T091910Z
LAST-MODIFIED:20220220T082816Z
UID:176-1656698400-1656712800@bv-unglinghausen.de
SUMMARY:kUlinarisch - freitags gemeinsam genießen
DESCRIPTION:Zum Auftakt der Veranstaltungsreihe „kUlinarisch – freitags gemeinsam genießen“ halten wir an dem Konzept des Vorjahres fest. \n\n\n\nGrüße von der Küste \n\n\n\nUnter diesem Motto wird es wieder leckeren Flammlachs und Matjes im Brötchen geben. Genießen Sie diese Speisen am Dorfplatz der Bürgerbegegnungsstätte. Für Kaltgetränke\, Musik und gute Atmosphäre wird selbsverständlich gesorgt.
URL:https://bv-unglinghausen.de/event/kulinarisch-freitags-gemeinsam-geniessen/
LOCATION:Bürgerbegegnungsstätte Unglinghausen\, Hauptstraße 54\, Netphen\, 57250\, Deutschland
END:VEVENT
BEGIN:VEVENT
DTSTART;TZID=UTC:20220722T180000
DTEND;TZID=UTC:20220722T220000
DTSTAMP:20260423T171708
CREATED:20211124T091948Z
LAST-MODIFIED:20220714T070956Z
UID:178-1658512800-1658527200@bv-unglinghausen.de
SUMMARY:kUlinarisch - freitags gemeinsam genießen
DESCRIPTION:SNACKBOX! Unter diesem Thema findet die zweite Auflage unserer diesejährigen „kUlinarisch-Events“ statt. Freut euch auf einen leckeren Dorfabend mit Leckereien. \n\n\n\nFür ausreichend Kaltgetränke ist wie immer gesorgt.
URL:https://bv-unglinghausen.de/event/kulinarisch-freitags-gemeinsam-geniessen-2/
LOCATION:Bürgerbegegnungsstätte Unglinghausen\, Hauptstraße 54\, Netphen\, 57250\, Deutschland
END:VEVENT
END:VCALENDAR