BEGIN:VCALENDAR
VERSION:2.0
PRODID:-//Bürgerverein Unglinghausen - ECPv6.15.20//NONSGML v1.0//EN
CALSCALE:GREGORIAN
METHOD:PUBLISH
X-ORIGINAL-URL:https://bv-unglinghausen.de
X-WR-CALDESC:Veranstaltungen für Bürgerverein Unglinghausen
REFRESH-INTERVAL;VALUE=DURATION:PT1H
X-Robots-Tag:noindex
X-PUBLISHED-TTL:PT1H
BEGIN:VTIMEZONE
TZID:UTC
BEGIN:STANDARD
TZOFFSETFROM:+0000
TZOFFSETTO:+0000
TZNAME:UTC
DTSTART:20210101T000000
END:STANDARD
END:VTIMEZONE
BEGIN:VEVENT
DTSTART;TZID=UTC:20220805T180000
DTEND;TZID=UTC:20220805T220000
DTSTAMP:20260423T153717
CREATED:20220517T040355Z
LAST-MODIFIED:20220714T071018Z
UID:469-1659722400-1659736800@bv-unglinghausen.de
SUMMARY:kUlinarisch - Freitags gemeinsam genießen
DESCRIPTION:Anpfiff der Bundesliga! \n\n\n\nDie dritte Ausgabe der kUlinarisch-Events dreht sich ganz um den Fußball. Abgepasst mit dem Auftakt der 1. Bundesliga\, wird es wie auch im Vorjahr ein Public-Viewing am Dorfplatz geben. Durch die positive Resonanz des letzten Jahres\, wird es ebenfalls wieder Currywurst und Pommes geben. Für ausreichend Kaltgetränke ist natürlich wie immer gesorgt.
URL:https://bv-unglinghausen.de/event/kulinarisch-freitags-gemeinsam-geniessen-3/
LOCATION:Bürgerbegegnungsstätte Unglinghausen\, Hauptstraße 54\, Netphen\, 57250\, Deutschland
END:VEVENT
BEGIN:VEVENT
DTSTART;TZID=UTC:20220826T180000
DTEND;TZID=UTC:20220826T220000
DTSTAMP:20260423T153717
CREATED:20211124T092142Z
LAST-MODIFIED:20220714T071103Z
UID:182-1661536800-1661551200@bv-unglinghausen.de
SUMMARY:kUlinarisch - freitags gemeinsam genießen
DESCRIPTION:Den Höhepunkt unserer Veranstaltungsreihe „kUlinarisch – feitags gemeinsam genießen“ bildet das Duffelnsfest Light. \n\n\n\nMit leckeren Kartoffelspezialitäten möchten wir wieder etwas Duffelnsfest Flair auf den Dorfplatz bringen! \n\n\n\nWeitere Informationen folgen!
URL:https://bv-unglinghausen.de/event/kulinarisch-freitags-gemeinsam-geniessen-4/
LOCATION:Bürgerbegegnungsstätte Unglinghausen\, Hauptstraße 54\, Netphen\, 57250\, Deutschland
END:VEVENT
END:VCALENDAR