BEGIN:VCALENDAR
VERSION:2.0
PRODID:-//Bürgerverein Unglinghausen - ECPv6.15.20//NONSGML v1.0//EN
CALSCALE:GREGORIAN
METHOD:PUBLISH
X-ORIGINAL-URL:https://bv-unglinghausen.de
X-WR-CALDESC:Veranstaltungen für Bürgerverein Unglinghausen
REFRESH-INTERVAL;VALUE=DURATION:PT1H
X-Robots-Tag:noindex
X-PUBLISHED-TTL:PT1H
BEGIN:VTIMEZONE
TZID:UTC
BEGIN:STANDARD
TZOFFSETFROM:+0000
TZOFFSETTO:+0000
TZNAME:UTC
DTSTART:20210101T000000
END:STANDARD
END:VTIMEZONE
BEGIN:VEVENT
DTSTART;TZID=UTC:20220910T140000
DTEND;TZID=UTC:20220910T200000
DTSTAMP:20260423T134826
CREATED:20220118T165148Z
LAST-MODIFIED:20220830T062547Z
UID:248-1662818400-1662840000@bv-unglinghausen.de
SUMMARY:Onkelküser Mini Street Food Market
DESCRIPTION:Der Bürgerverein Unglinghausen e.V. freut sich ein neuen Format vorzustellen\, den „Onkelküser Mini Street Food Market“. \n\n\n\nAm 10. September um 15:00 Uhr ist offizieller Beginn des Street Food Markets. In der ersten Auflage wurden vorerst einige wenige Speisen ausgewählt\, da zunächst eruiert werden soll\, ob das Format gut angenommen wird. Der Vorstand freut sich demnach „Konnas Burger Truck“ und Pieronis Eiswagen am Dorfplatz begrüßen zu dürfen. Desweiteren wird es frische Steinofenpizza aus einem Ofen geben sowie Kaltgetränke aus einem Rondell. Weitere kulinarische Spezialitäten werden in den kommenden Wochen bekannt gegeben. \n\n\n\nAußerdem öffnet für euch ab 18:00 Uhr eine Cocktailbar\, wo es zwei frische Cocktails und einen alkoholfreien Mocktail gibt.Welche Cocktails genau? Das bleibt ein Geheimnis! \n\n\n\nDer Vorstand freut sich über zahlreiches Erscheinen.
URL:https://bv-unglinghausen.de/event/geheimprojekt/
LOCATION:Bürgerbegegnungsstätte Unglinghausen\, Hauptstraße 54\, Netphen\, 57250\, Deutschland
END:VEVENT
END:VCALENDAR