BEGIN:VCALENDAR
VERSION:2.0
PRODID:-//Bürgerverein Unglinghausen - ECPv6.15.20//NONSGML v1.0//EN
CALSCALE:GREGORIAN
METHOD:PUBLISH
X-ORIGINAL-URL:https://bv-unglinghausen.de
X-WR-CALDESC:Veranstaltungen für Bürgerverein Unglinghausen
REFRESH-INTERVAL;VALUE=DURATION:PT1H
X-Robots-Tag:noindex
X-PUBLISHED-TTL:PT1H
BEGIN:VTIMEZONE
TZID:UTC
BEGIN:STANDARD
TZOFFSETFROM:+0000
TZOFFSETTO:+0000
TZNAME:UTC
DTSTART:20210101T000000
END:STANDARD
END:VTIMEZONE
BEGIN:VEVENT
DTSTART;TZID=UTC:20221202T180000
DTEND;TZID=UTC:20221202T220000
DTSTAMP:20260423T080319
CREATED:20221113T100904Z
LAST-MODIFIED:20221121T100001Z
UID:583-1670004000-1670018400@bv-unglinghausen.de
SUMMARY:Wiedereröffnung der Bürgerstube
DESCRIPTION:Der Vorstand freut sich zur verkünden\, dass am 02.12. die Wiedereröffnung stattfinden soll. Nach über 2 Jahren pandemisch bedingter Pause\, soll der Thekenbetrieb zunächst in einer Pilotphase erprobt werden. Bei ausreichender Frequentierung und Akzeptanz soll eine erneute monatliche Öffnung stattfinden. Der Vorstand würde sich über zahlreiche Besucherinnen und Besucher freuen und hofft auch eine rege Teilnahme!
URL:https://bv-unglinghausen.de/event/wiedereroeffnung-der-buergerstube/
LOCATION:Bürgerbegegnungsstätte Unglinghausen\, Hauptstraße 54\, Netphen\, 57250\, Deutschland
END:VEVENT
BEGIN:VEVENT
DTSTART;TZID=UTC:20221210T110000
DTEND;TZID=UTC:20221210T220000
DTSTAMP:20260423T080319
CREATED:20211123T172718Z
LAST-MODIFIED:20221121T095912Z
UID:156-1670670000-1670709600@bv-unglinghausen.de
SUMMARY:Weihnachtsbaumverkauf & Onkelküser Weihnachtsmarkt
DESCRIPTION:Der „Onkelküser Weihnachtsmarkt“ bildet den Abschluss für die Veranstaltungen im Jahr 2022. Letztes Jahr musste das Konzept leider verworfen werden\, da die pandemische Lage eine solche Veranstaltung leider nicht zugelassen hat. Der Vorstand freut sich\, die Planungen nun von dem Vorjahr aufgreifen zu können\, um den Unglinghäusenern ein umfängliches Programm bieten zu können. \n\n\n\nAm 10. Dezember eröffnet der traditionelle Weihnachtsbaumverkauf den „Onkelküser Weihnachtsmarkt“. In verschiedensten Hütten und Zelten\, findet der Verkauf von lokalen Spezialitäten statt. Für das leiblich Wohl ist durch Glühwein\, Kinderpuntsch und Kaltgetränken wie immer gesorgt! \n\n\n\nWeitere Informationen sind dem beigefügten Flyer zu entnehmen.
URL:https://bv-unglinghausen.de/event/weihnachtsbaumverkauf-onkelkueser-weihnachtsmarkt/
LOCATION:Bürgerbegegnungsstätte Unglinghausen\, Hauptstraße 54\, Netphen\, 57250\, Deutschland
END:VEVENT
END:VCALENDAR