BEGIN:VCALENDAR
VERSION:2.0
PRODID:-//Bürgerverein Unglinghausen - ECPv6.15.20//NONSGML v1.0//EN
CALSCALE:GREGORIAN
METHOD:PUBLISH
X-WR-CALNAME:Bürgerverein Unglinghausen
X-ORIGINAL-URL:https://bv-unglinghausen.de
X-WR-CALDESC:Veranstaltungen für Bürgerverein Unglinghausen
REFRESH-INTERVAL;VALUE=DURATION:PT1H
X-Robots-Tag:noindex
X-PUBLISHED-TTL:PT1H
BEGIN:VTIMEZONE
TZID:UTC
BEGIN:STANDARD
TZOFFSETFROM:+0000
TZOFFSETTO:+0000
TZNAME:UTC
DTSTART:20220101T000000
END:STANDARD
END:VTIMEZONE
BEGIN:VEVENT
DTSTART;TZID=UTC:20230106T180000
DTEND;TZID=UTC:20230106T220000
DTSTAMP:20260423T052214
CREATED:20221113T122145Z
LAST-MODIFIED:20221121T095830Z
UID:585-1673028000-1673042400@bv-unglinghausen.de
SUMMARY:Erste Öffnung der Bürgerstube in 2023
DESCRIPTION:Nähere Infos folgen in Kürze!
URL:https://bv-unglinghausen.de/event/erste-oeffnung-der-buergerstube-in-2023/
LOCATION:Bürgerbegegnungsstätte Unglinghausen\, Hauptstraße 54\, Netphen\, 57250\, Deutschland
END:VEVENT
END:VCALENDAR