BEGIN:VCALENDAR
VERSION:2.0
PRODID:-//Bürgerverein Unglinghausen - ECPv6.15.20//NONSGML v1.0//EN
CALSCALE:GREGORIAN
METHOD:PUBLISH
X-ORIGINAL-URL:https://bv-unglinghausen.de
X-WR-CALDESC:Veranstaltungen für Bürgerverein Unglinghausen
REFRESH-INTERVAL;VALUE=DURATION:PT1H
X-Robots-Tag:noindex
X-PUBLISHED-TTL:PT1H
BEGIN:VTIMEZONE
TZID:UTC
BEGIN:STANDARD
TZOFFSETFROM:+0000
TZOFFSETTO:+0000
TZNAME:UTC
DTSTART:20220101T000000
END:STANDARD
END:VTIMEZONE
BEGIN:VEVENT
DTSTART;TZID=UTC:20230501T120000
DTEND;TZID=UTC:20230501T160000
DTSTAMP:20260422T210719
CREATED:20221119T084740Z
LAST-MODIFIED:20230420T172252Z
UID:616-1682942400-1682956800@bv-unglinghausen.de
SUMMARY:Maifest in Kooperation mit der Feuerwehr
DESCRIPTION:Der Bürgerverein lädt in Kooperation mit der Freiwilligen Feuerwehr herzlich zum fröhlichen Beisammensein ein. \n\n\n\n01. Mai von 12:00 Uhr bis 16:00 Uhr am Platz der Bürgerbegegnungsstätte!\n\n\n\nFür das leibliche Wohl ist bestens gesorgt\, neben kräftiger Suppe (solange der Vorrat reicht)\, kann man sich auch mit leckerer Grillwurst und knusprigen Pommes oder mit frischen Waffeln stärken. Eine besondere Attraktion für Klein und Groß bietet die Feuerwehr Unglinghausen ab 12.30 Uhr mit der beliebten Feuerwehrhüpfburg\, der Besichtigung des Löschfahrzeuges und einigen tollen Mitmachaktionen. \n\n\n\nAlso\, bis zum 1. Mai am Dorfplatz!
URL:https://bv-unglinghausen.de/event/maifest-in-kooperation-mit-der-feuerwehr/
LOCATION:Bürgerbegegnungsstätte Unglinghausen\, Hauptstraße 54\, Netphen\, 57250\, Deutschland
END:VEVENT
BEGIN:VEVENT
DTSTART;TZID=UTC:20230505T190000
DTEND;TZID=UTC:20230505T230000
DTSTAMP:20260422T210719
CREATED:20230316T171204Z
LAST-MODIFIED:20230316T171205Z
UID:678-1683313200-1683327600@bv-unglinghausen.de
SUMMARY:Offene Bürgerstube
DESCRIPTION:Mehr Informationen sind unter Aktuelles zu finden!
URL:https://bv-unglinghausen.de/event/offene-buergerstube-2/
LOCATION:Bürgerbegegnungsstätte Unglinghausen\, Hauptstraße 54\, Netphen\, 57250\, Deutschland
END:VEVENT
END:VCALENDAR