BEGIN:VCALENDAR
VERSION:2.0
PRODID:-//Bürgerverein Unglinghausen - ECPv6.15.20//NONSGML v1.0//EN
CALSCALE:GREGORIAN
METHOD:PUBLISH
X-WR-CALNAME:Bürgerverein Unglinghausen
X-ORIGINAL-URL:https://bv-unglinghausen.de
X-WR-CALDESC:Veranstaltungen für Bürgerverein Unglinghausen
REFRESH-INTERVAL;VALUE=DURATION:PT1H
X-Robots-Tag:noindex
X-PUBLISHED-TTL:PT1H
BEGIN:VTIMEZONE
TZID:UTC
BEGIN:STANDARD
TZOFFSETFROM:+0000
TZOFFSETTO:+0000
TZNAME:UTC
DTSTART:20220101T000000
END:STANDARD
END:VTIMEZONE
BEGIN:VEVENT
DTSTART;TZID=UTC:20230602T180000
DTEND;TZID=UTC:20230602T230000
DTSTAMP:20260422T191515
CREATED:20230106T132408Z
LAST-MODIFIED:20230106T132410Z
UID:641-1685728800-1685746800@bv-unglinghausen.de
SUMMARY:Jahreshauptversammlung mit anschließendem Helferfest
DESCRIPTION:Weitere Informationen folgen im Frühjahr 2023! \n\n\n\nDas Helferfest ist nur für Helferinnen und Helfer der letzten beiden Jahre bestimmt. Einladungen werden hierzu frühzeitig vom Vorstand versendet.
URL:https://bv-unglinghausen.de/event/jahreshauptversammlung-mit-anschliessendem-helferfest/
LOCATION:Bürgerbegegnungsstätte Unglinghausen\, Hauptstraße 54\, Netphen\, 57250\, Deutschland
END:VEVENT
BEGIN:VEVENT
DTSTART;TZID=UTC:20230616T190000
DTEND;TZID=UTC:20230616T220000
DTSTAMP:20260422T191515
CREATED:20230511T130429Z
LAST-MODIFIED:20230516T100115Z
UID:713-1686942000-1686952800@bv-unglinghausen.de
SUMMARY:Rocksommer mit Livemusik ft. Hauberries
DESCRIPTION:Der Bürgerverein lädt für den großen Sommerauftakt am 16.06.2023 auf den Dorfplatz in Unglinghausen ein! Wie auch im letzten Jahr\, werden euch die Hauberries eine unvergessliche Livemusik-Performance bieten. Auftakt ist um 19 Uhr\, für das leibliche Wohl ist wie immer gesorgt! \n\n\n\n\n\nDer Vorstand freut sich auf zahlreiche Besucherinnen und Besucher!
URL:https://bv-unglinghausen.de/event/rocksommer-am-dorfplatz/
LOCATION:Bürgerbegegnungsstätte Unglinghausen\, Hauptstraße 54\, Netphen\, 57250\, Deutschland
END:VEVENT
END:VCALENDAR