BEGIN:VCALENDAR
VERSION:2.0
PRODID:-//Bürgerverein Unglinghausen - ECPv6.15.20//NONSGML v1.0//EN
CALSCALE:GREGORIAN
METHOD:PUBLISH
X-ORIGINAL-URL:https://bv-unglinghausen.de
X-WR-CALDESC:Veranstaltungen für Bürgerverein Unglinghausen
REFRESH-INTERVAL;VALUE=DURATION:PT1H
X-Robots-Tag:noindex
X-PUBLISHED-TTL:PT1H
BEGIN:VTIMEZONE
TZID:UTC
BEGIN:STANDARD
TZOFFSETFROM:+0000
TZOFFSETTO:+0000
TZNAME:UTC
DTSTART:20220101T000000
END:STANDARD
END:VTIMEZONE
BEGIN:VEVENT
DTSTART;TZID=UTC:20230805T150000
DTEND;TZID=UTC:20230805T235900
DTSTAMP:20260422T153617
CREATED:20230106T132557Z
LAST-MODIFIED:20230715T081120Z
UID:643-1691247600-1691279940@bv-unglinghausen.de
SUMMARY:Onkelküser Mini Streetfood Market Vol. 2
DESCRIPTION:Freuen Sie sich auf viele verschiedene kulinarische Spezailitäten! \n\n\n\nDer Vorstand konnte dieses Jahr viele verschiedene Aussteller für die zweite Auflage des Mini Street Food Market gewinnen. Unter anderem begrüßen wir die Jungs von „Konnas Burger“\, welche bereits letztes Jahr restlos ausverkauft wurden. Desweiteren ist die Crew von Pizza ZiO am Start\, die am Rock Sommer das Catering übernommen haben. Tottis Barbeque beschert uns mit seinen Spezialitäten das Nötige vom Grill\, bevor er im September ein Grillseminar am Dorfplatz anbietet. Die Cocktailbar bietet auch in diesem Jahr wieder eine Auswahl an Cocktails an! \n\n\n\nNeu dabei sind die leckeren Baumstriezeln und yogolove mit köstlichen Frozen Joghurts! \n\n\n\nVorbeischauen lohnt sich.
URL:https://bv-unglinghausen.de/event/onkelkueser-mini-streetfood-market-vol-2/
LOCATION:Bürgerbegegnungsstätte Unglinghausen\, Hauptstraße 54\, Netphen\, 57250\, Deutschland
END:VEVENT
BEGIN:VEVENT
DTSTART;TZID=UTC:20230818T190000
DTEND;TZID=UTC:20230818T230000
DTSTAMP:20260422T153617
CREATED:20230316T171431Z
LAST-MODIFIED:20230815T174419Z
UID:681-1692385200-1692399600@bv-unglinghausen.de
SUMMARY:Offene Bürgerstube
DESCRIPTION:Mehr Informationen sind unter Aktuelles zu finden!
URL:https://bv-unglinghausen.de/event/offene-buergerstube-3/
LOCATION:Bürgerbegegnungsstätte Unglinghausen\, Hauptstraße 54\, Netphen\, 57250\, Deutschland
END:VEVENT
BEGIN:VEVENT
DTSTART;TZID=UTC:20230825T180000
DTEND;TZID=UTC:20230825T220000
DTSTAMP:20260422T153617
CREATED:20230701T080000Z
LAST-MODIFIED:20230824T035540Z
UID:645-1692986400-1693000800@bv-unglinghausen.de
SUMMARY:[ABGESAGT] Onkelküser Duffelnsabend
DESCRIPTION:Am 25.08. findet der Duffelnsabend an der Bürgerbegegnungsstätte statt. Der Duffelnsabend wurde als kleiner und feiner Ableger des Duffelnsfests ins Leben gerufen. Es wird köstliche Kartoffelspezialitäten nach Omas Rezepten geben. Vorbeischauen lohnt sich!
URL:https://bv-unglinghausen.de/event/duffelnsabend/
LOCATION:Bürgerbegegnungsstätte Unglinghausen\, Hauptstraße 54\, Netphen\, 57250\, Deutschland
END:VEVENT
END:VCALENDAR