BEGIN:VCALENDAR
VERSION:2.0
PRODID:-//Bürgerverein Unglinghausen - ECPv6.15.20//NONSGML v1.0//EN
CALSCALE:GREGORIAN
METHOD:PUBLISH
X-ORIGINAL-URL:https://bv-unglinghausen.de
X-WR-CALDESC:Veranstaltungen für Bürgerverein Unglinghausen
REFRESH-INTERVAL;VALUE=DURATION:PT1H
X-Robots-Tag:noindex
X-PUBLISHED-TTL:PT1H
BEGIN:VTIMEZONE
TZID:UTC
BEGIN:STANDARD
TZOFFSETFROM:+0000
TZOFFSETTO:+0000
TZNAME:UTC
DTSTART:20220101T000000
END:STANDARD
END:VTIMEZONE
BEGIN:VEVENT
DTSTART;TZID=UTC:20230910T110000
DTEND;TZID=UTC:20230910T180000
DTSTAMP:20260422T140833
CREATED:20230803T163334Z
LAST-MODIFIED:20230803T163338Z
UID:799-1694343600-1694368800@bv-unglinghausen.de
SUMMARY:Kinderbasar
DESCRIPTION:
URL:https://bv-unglinghausen.de/event/kinderbasar/
LOCATION:Bürgerbegegnungsstätte Unglinghausen\, Hauptstraße 54\, Netphen\, 57250\, Deutschland
END:VEVENT
BEGIN:VEVENT
DTSTART;TZID=UTC:20230922T180000
DTEND;TZID=UTC:20230922T220000
DTSTAMP:20260422T140833
CREATED:20230524T131143Z
LAST-MODIFIED:20230524T131145Z
UID:723-1695405600-1695420000@bv-unglinghausen.de
SUMMARY:Grillseminar ft. Tottis Barbeque am Dorfplatz in Unglinghausen!
DESCRIPTION:Der Vorstand hat in Kooperation mit Tottis Barbeque ein Grillseminar geplant\, welches am Dofplatz in Unglinghausen stattfinden soll. \n\n\n\nDie begrenzten Teilnehmerplätze werden bald vergeben. In welcher Form und Umfang ist noch nicht abschließend geklärt. Vereinsmitglieder haben jedoch die Möglichkeit eine „Wildcard“\, also eine Freikarte zu gewinnen\, sofern sie ihr Los an der Jahreshauptversammlung am 02.06. in die Lostrommel werfen. \n\n\n\nDer Vorstand bittet vor Anfragen hinsichtlich der Teilnehmerplätze ab. Zu gegebener Zeit werden alle weiteren Informationen auf dieser Website bekanntgegeben!
URL:https://bv-unglinghausen.de/event/grillseminar-ft-tottis-barbeque-am-dorfplatz-in-unglinghausen/
LOCATION:Bürgerbegegnungsstätte Unglinghausen\, Hauptstraße 54\, Netphen\, 57250\, Deutschland
END:VEVENT
END:VCALENDAR