BEGIN:VCALENDAR
VERSION:2.0
PRODID:-//Bürgerverein Unglinghausen - ECPv6.15.20//NONSGML v1.0//EN
CALSCALE:GREGORIAN
METHOD:PUBLISH
X-ORIGINAL-URL:https://bv-unglinghausen.de
X-WR-CALDESC:Veranstaltungen für Bürgerverein Unglinghausen
REFRESH-INTERVAL;VALUE=DURATION:PT1H
X-Robots-Tag:noindex
X-PUBLISHED-TTL:PT1H
BEGIN:VTIMEZONE
TZID:UTC
BEGIN:STANDARD
TZOFFSETFROM:+0000
TZOFFSETTO:+0000
TZNAME:UTC
DTSTART:20220101T000000
END:STANDARD
END:VTIMEZONE
BEGIN:VEVENT
DTSTART;TZID=UTC:20231209T110000
DTEND;TZID=UTC:20231209T220000
DTSTAMP:20260422T073753
CREATED:20230106T132759Z
LAST-MODIFIED:20231121T075539Z
UID:647-1702119600-1702159200@bv-unglinghausen.de
SUMMARY:Weihnachtsbaumverkauf & Onkelküser Weihnachtsmarkt
DESCRIPTION:Am 9. Dezember findet der alljährliche und traditionelle Weihnachtsbaumverkauf sowie der Onkelküser Weihnachtsmarkt statt. Alle weiteren Informationen sind dem Flyer zu entnehmen.
URL:https://bv-unglinghausen.de/event/weihnachtsbaumverkauf-onkelkueser-weihnachtsmarkt-2/
LOCATION:Bürgerbegegnungsstätte Unglinghausen\, Hauptstraße 54\, Netphen\, 57250\, Deutschland
END:VEVENT
END:VCALENDAR