BEGIN:VCALENDAR
VERSION:2.0
PRODID:-//Bürgerverein Unglinghausen - ECPv6.15.20//NONSGML v1.0//EN
CALSCALE:GREGORIAN
METHOD:PUBLISH
X-ORIGINAL-URL:https://bv-unglinghausen.de
X-WR-CALDESC:Veranstaltungen für Bürgerverein Unglinghausen
REFRESH-INTERVAL;VALUE=DURATION:PT1H
X-Robots-Tag:noindex
X-PUBLISHED-TTL:PT1H
BEGIN:VTIMEZONE
TZID:UTC
BEGIN:STANDARD
TZOFFSETFROM:+0000
TZOFFSETTO:+0000
TZNAME:UTC
DTSTART:20230101T000000
END:STANDARD
END:VTIMEZONE
BEGIN:VEVENT
DTSTART;TZID=UTC:20240826T080000
DTEND;TZID=UTC:20240901T220000
DTSTAMP:20260421T122257
CREATED:20231225T085645Z
LAST-MODIFIED:20240612T180813Z
UID:896-1724659200-1725228000@bv-unglinghausen.de
SUMMARY:Jubiläumswoche Schmick & Festakt am 01.09.2024
DESCRIPTION:Erste Informationen unter:https://bv-unglinghausen.de/projekte/
URL:https://bv-unglinghausen.de/event/jubilaeumswoche-schmick/
LOCATION:Bürgerbegegnungsstätte Unglinghausen\, Hauptstraße 54\, Netphen\, 57250\, Deutschland
END:VEVENT
BEGIN:VEVENT
DTSTART;TZID=UTC:20240901T120000
DTEND;TZID=UTC:20240901T180000
DTSTAMP:20260421T122257
CREATED:20240312T171717Z
LAST-MODIFIED:20240612T180709Z
UID:922-1725192000-1725213600@bv-unglinghausen.de
SUMMARY:Festtag zum 200. Geburtstag von Johann Heinrich Schmick
DESCRIPTION:Erste Informationen unter:https://bv-unglinghausen.de/projekte/
URL:https://bv-unglinghausen.de/event/festabend-zum-200-geburtstag-von-johann-heinrich-schmick/
LOCATION:Bürgerbegegnungsstätte Unglinghausen\, Hauptstraße 54\, Netphen\, 57250\, Deutschland
END:VEVENT
BEGIN:VEVENT
DTSTART;TZID=UTC:20240929T110000
DTEND;TZID=UTC:20240929T170000
DTSTAMP:20260421T122257
CREATED:20231106T092546Z
LAST-MODIFIED:20240522T065043Z
UID:871-1727607600-1727629200@bv-unglinghausen.de
SUMMARY:Hausen Sause
DESCRIPTION:Alle aktuellen Informationen unter dem Reiter „Hausen-Sause“!
URL:https://bv-unglinghausen.de/event/hausen-sause/
LOCATION:Grillhütte Frohnhausen
END:VEVENT
END:VCALENDAR