BEGIN:VCALENDAR
VERSION:2.0
PRODID:-//Bürgerverein Unglinghausen - ECPv6.15.20//NONSGML v1.0//EN
CALSCALE:GREGORIAN
METHOD:PUBLISH
X-ORIGINAL-URL:https://bv-unglinghausen.de
X-WR-CALDESC:Veranstaltungen für Bürgerverein Unglinghausen
REFRESH-INTERVAL;VALUE=DURATION:PT1H
X-Robots-Tag:noindex
X-PUBLISHED-TTL:PT1H
BEGIN:VTIMEZONE
TZID:UTC
BEGIN:STANDARD
TZOFFSETFROM:+0000
TZOFFSETTO:+0000
TZNAME:UTC
DTSTART:20230101T000000
END:STANDARD
END:VTIMEZONE
BEGIN:VEVENT
DTSTART;TZID=UTC:20241207T110000
DTEND;TZID=UTC:20241207T220000
DTSTAMP:20260421T072012
CREATED:20240409T090413Z
LAST-MODIFIED:20241113T171246Z
UID:908-1733569200-1733608800@bv-unglinghausen.de
SUMMARY:Onkelküser Weihnachtsmärktchen & Baumverkauf
DESCRIPTION:Der Bürgerverein Unglinghausen e.V. lädt herzlich am 07.12.204 zum traditionellen Weihnachtsbaumverkauf und dem anschließenden Onkelküser Weihnachtsmarkt auf den Dorfplatz an der Bürgerbegegnungsstätte ein. \n\n\n\nUm 11:00 Uhr morgens beginnt der Weihnachtsbaumverkauf. Dieses Jahr konnte der Vorstand einen neuen Lieferanten gewinnen. Während des Baumverkaufs wird es Bratwurst\, Glühwein und Kaltgetränke zur Stärkung geben. \n\n\n\nGegen 17:00 Uhr wird ebenfalls der traditionelle Fackelzug stattfinden. Der Vorstand bedankt sich bei der Freiwilligen Feuerwehr Netphen – Löschgruppe Unglinghausen – welche den Fackelzug begleiten und koordinieren werden. \n\n\n\nParallel wird der Weihnachtsmarkt mit seinen Hütten durch den Nikolaus eröffnet werden. Dieser wird wie jedes Jahr eine Kleinigkeit für unsere kleinen Besucher mitbringen. In unseren geschmückten Hütten wird eine reichhaltige Auswahl an kulinarischen Köstlichkeiten\, Handwerksarbeiten und vieles mehr angeboten! Weiterhin wird dieses Jahr erstmalig eine streng limitierte Auflage des „Onkelküser Jahreskalender für 2025“ angeboten. \n\n\n\nAußerdem wird unsere Fotografin Anna Vitt in der Bürgergegegnungsstätte tolle Familienfotos von euch knipsen. Schaut doch gerne in unserer Fotolounge vorbei! \n\n\n\nFür das leibliche Wohl wird auch wähend der Abendstunden gesorgt sein. Bratwürste\, Glühwein\, Kinderpunsch\, Kaltgetränke u.v.m.! \n\n\n\n-Änderungen bis zur Veröffentlichung des finalen Flyers vorbehalten-
URL:https://bv-unglinghausen.de/event/onkelkueser-weihnachtsbaumverkauf-weihnachtsmarkt/
LOCATION:Bürgerbegegnungsstätte Unglinghausen\, Hauptstraße 54\, Netphen\, 57250\, Deutschland
END:VEVENT
END:VCALENDAR