BEGIN:VCALENDAR
VERSION:2.0
PRODID:-//Bürgerverein Unglinghausen - ECPv6.15.20//NONSGML v1.0//EN
CALSCALE:GREGORIAN
METHOD:PUBLISH
X-WR-CALNAME:Bürgerverein Unglinghausen
X-ORIGINAL-URL:https://bv-unglinghausen.de
X-WR-CALDESC:Veranstaltungen für Bürgerverein Unglinghausen
REFRESH-INTERVAL;VALUE=DURATION:PT1H
X-Robots-Tag:noindex
X-PUBLISHED-TTL:PT1H
BEGIN:VTIMEZONE
TZID:UTC
BEGIN:STANDARD
TZOFFSETFROM:+0000
TZOFFSETTO:+0000
TZNAME:UTC
DTSTART:20240101T000000
END:STANDARD
END:VTIMEZONE
BEGIN:VEVENT
DTSTART;TZID=UTC:20250614T110000
DTEND;TZID=UTC:20250614T170000
DTSTAMP:20260425T015605
CREATED:20241025T090106Z
LAST-MODIFIED:20250521T083632Z
UID:1168-1749898800-1749920400@bv-unglinghausen.de
SUMMARY:Erste Motor-Omnibus-Linie der Welt
DESCRIPTION:Alle Informationen sind verfügbar unter:https://www.netphen.de/Mein-Netphen-Heimat-21/aufbauen-entwickeln/gemeinsam-f%C3%BCr-Netphen/Omnibus/
URL:https://bv-unglinghausen.de/event/erste-motor-omnibus-linie-der-welt/
LOCATION:Netphen Zentrum\, Amtsstraße 2\, Netphen\, NRW\, Germany
END:VEVENT
BEGIN:VEVENT
DTSTART;TZID=UTC:20250628T150000
DTEND;TZID=UTC:20250628T220000
DTSTAMP:20260425T015605
CREATED:20241025T090221Z
LAST-MODIFIED:20250610T151512Z
UID:1172-1751122800-1751148000@bv-unglinghausen.de
SUMMARY:Onkelküser Mini Street Food Market
DESCRIPTION:Der Bürgerverein Unglinghausen lädt am 28.06.2025 ab 15:00 Uhr zur vierten Auflage des Mini Street Food Markets sein. Dieses Jahr freuen wir uns wieder Konnas Burger\, Thai Wok Siegerland sowie Best Gyros in Town (Eigenname) begrüßen zu dürfen. \n\n\n\nAuch für das erfrischende Wohl ist selbstverständlich gesorgt. Aus dem Rondell bieten wir eine Vielfalt an Erfrischunsgetränken an. Traditionell wird es auch wieder eine Cocktailbar geben. Der heißbegehrte „Fummeln am Löschteich“ wird unter anderem wieder im Angebot sein! Das Ende der Veranstaltung ist für 22:00 Uhr vorgesehen. \n\n\n\nWir freuen uns über zahlreiche Besucherinnen und Besucher.
URL:https://bv-unglinghausen.de/event/onkelkueser-mini-street-food-market/
LOCATION:Bürgerbegegnungsstätte Unglinghausen\, Hauptstraße 54\, Netphen\, 57250\, Deutschland
END:VEVENT
END:VCALENDAR