BEGIN:VCALENDAR
VERSION:2.0
PRODID:-//Bürgerverein Unglinghausen - ECPv6.15.20//NONSGML v1.0//EN
CALSCALE:GREGORIAN
METHOD:PUBLISH
X-ORIGINAL-URL:https://bv-unglinghausen.de
X-WR-CALDESC:Veranstaltungen für Bürgerverein Unglinghausen
REFRESH-INTERVAL;VALUE=DURATION:PT1H
X-Robots-Tag:noindex
X-PUBLISHED-TTL:PT1H
BEGIN:VTIMEZONE
TZID:UTC
BEGIN:STANDARD
TZOFFSETFROM:+0000
TZOFFSETTO:+0000
TZNAME:UTC
DTSTART:20240101T000000
END:STANDARD
END:VTIMEZONE
BEGIN:VEVENT
DTSTART;TZID=UTC:20250829T180000
DTEND;TZID=UTC:20250829T230000
DTSTAMP:20260424T222405
CREATED:20241025T090258Z
LAST-MODIFIED:20250710T182406Z
UID:1174-1756490400-1756508400@bv-unglinghausen.de
SUMMARY:Onkelküser Duffelnsabend
DESCRIPTION:Wir laden für das Jahreshighlight ein\, dem Onkelküser Duffelnsabend. Besucherinnen und Besucher können sich über leckere Kartoffelspezialitäten nach Omas Rezepten freuen. Alle weiteren Informationen sind dem nachfolgendem Flyer zu entnehmen.
URL:https://bv-unglinghausen.de/event/onklekueser-duffelnsabend/
LOCATION:Bürgerbegegnungsstätte Unglinghausen\, Hauptstraße 54\, Netphen\, 57250\, Deutschland
END:VEVENT
END:VCALENDAR