BEGIN:VCALENDAR
VERSION:2.0
PRODID:-//Bürgerverein Unglinghausen - ECPv6.15.20//NONSGML v1.0//EN
CALSCALE:GREGORIAN
METHOD:PUBLISH
X-ORIGINAL-URL:https://bv-unglinghausen.de
X-WR-CALDESC:Veranstaltungen für Bürgerverein Unglinghausen
REFRESH-INTERVAL;VALUE=DURATION:PT1H
X-Robots-Tag:noindex
X-PUBLISHED-TTL:PT1H
BEGIN:VTIMEZONE
TZID:UTC
BEGIN:STANDARD
TZOFFSETFROM:+0000
TZOFFSETTO:+0000
TZNAME:UTC
DTSTART:20240101T000000
END:STANDARD
END:VTIMEZONE
BEGIN:VEVENT
DTSTART;TZID=UTC:20250907T140000
DTEND;TZID=UTC:20250907T160000
DTSTAMP:20260424T194731
CREATED:20241102T111957Z
LAST-MODIFIED:20250831T151102Z
UID:1179-1757253600-1757260800@bv-unglinghausen.de
SUMMARY:Onkelküser Kinderbasar
DESCRIPTION:Alle Informationen können dem nachfolgenden Flyer entnommen werden.
URL:https://bv-unglinghausen.de/event/onkelkueser-kinderbasar-2/
LOCATION:Bürgerbegegnungsstätte Unglinghausen\, Hauptstraße 54\, Netphen\, 57250\, Deutschland
END:VEVENT
END:VCALENDAR