BEGIN:VCALENDAR
VERSION:2.0
PRODID:-//Bürgerverein Unglinghausen - ECPv6.15.20//NONSGML v1.0//EN
CALSCALE:GREGORIAN
METHOD:PUBLISH
X-ORIGINAL-URL:https://bv-unglinghausen.de
X-WR-CALDESC:Veranstaltungen für Bürgerverein Unglinghausen
REFRESH-INTERVAL;VALUE=DURATION:PT1H
X-Robots-Tag:noindex
X-PUBLISHED-TTL:PT1H
BEGIN:VTIMEZONE
TZID:Europe/Paris
BEGIN:DAYLIGHT
TZOFFSETFROM:+0100
TZOFFSETTO:+0200
TZNAME:CEST
DTSTART:20240331T010000
END:DAYLIGHT
BEGIN:STANDARD
TZOFFSETFROM:+0200
TZOFFSETTO:+0100
TZNAME:CET
DTSTART:20241027T010000
END:STANDARD
BEGIN:DAYLIGHT
TZOFFSETFROM:+0100
TZOFFSETTO:+0200
TZNAME:CEST
DTSTART:20250330T010000
END:DAYLIGHT
BEGIN:STANDARD
TZOFFSETFROM:+0200
TZOFFSETTO:+0100
TZNAME:CET
DTSTART:20251026T010000
END:STANDARD
BEGIN:DAYLIGHT
TZOFFSETFROM:+0100
TZOFFSETTO:+0200
TZNAME:CEST
DTSTART:20260329T010000
END:DAYLIGHT
BEGIN:STANDARD
TZOFFSETFROM:+0200
TZOFFSETTO:+0100
TZNAME:CET
DTSTART:20261025T010000
END:STANDARD
END:VTIMEZONE
BEGIN:VEVENT
DTSTART;TZID=Europe/Paris:20251026T140000
DTEND;TZID=Europe/Paris:20251026T170000
DTSTAMP:20260424T182313
CREATED:20250927T103632Z
LAST-MODIFIED:20250927T103633Z
UID:1403-1761487200-1761498000@bv-unglinghausen.de
SUMMARY:Dorfcafé Unglinghausen: Selbstgemachtes gemeinsam genießen
DESCRIPTION:Duftenden Kaffee genießen\, ein Stück hausgemachten Kuchen naschen und einfach mal zur Ruhe kommen – all das vereint das neue „Dorfcafé Unglinghausen“ mitten im Herzen des Ortes. \n\n\n\nAm 26.Oktober 2025 öffnet in der Bürgerstube das „Dorfcafé Unglinghausen“ in der Zeit von 14.00 Uhr bis 17.00 Uhr seine Türen. In barrierefreier Atmosphäre treffen familiäre Gastlichkeit\, hausgemachte Qualität und echtes Dorfgefühl aufeinander. Man kann bei Kaffee und Selbstgebackenem\, solange der Vorrat reicht\, zusammenkommen\, nette Leute treffen\, gute Gespräche führen und eine schöne Auszeit genießen. \n\n\n\nMit diesem Projekt möchte der Bürgerverein Unglinghausen den Bürgerinnen und Bürgern wieder Gelegenheit geben\, sich in einem gemütlichen Rahmen zu treffen und bei Leckerem von hier eine schöne Zeit zu verleben – ein Treffpunkt für Jung und Alt\, für Einheimische und Gäste\, der zum Verweilen und Genießen einlädt. \n\n\n\nBei guter Resonanz öffnet das Dorfcafé Unglinghausen jeden letzten Sonntag im Monat. Also kommt gerne vorbei und unterstützt dieses neue Projekt in unserem Dorf!
URL:https://bv-unglinghausen.de/event/dorfcafe-unglinghausen-selbstgemachtes-gemeinsam-geniessen/
LOCATION:Bürgerbegegnungsstätte Unglinghausen\, Hauptstraße 54\, Netphen\, 57250\, Deutschland
END:VEVENT
END:VCALENDAR