BEGIN:VCALENDAR
VERSION:2.0
PRODID:-//Bürgerverein Unglinghausen - ECPv6.15.20//NONSGML v1.0//EN
CALSCALE:GREGORIAN
METHOD:PUBLISH
X-WR-CALNAME:Bürgerverein Unglinghausen
X-ORIGINAL-URL:https://bv-unglinghausen.de
X-WR-CALDESC:Veranstaltungen für Bürgerverein Unglinghausen
REFRESH-INTERVAL;VALUE=DURATION:PT1H
X-Robots-Tag:noindex
X-PUBLISHED-TTL:PT1H
BEGIN:VTIMEZONE
TZID:Europe/Paris
BEGIN:DAYLIGHT
TZOFFSETFROM:+0100
TZOFFSETTO:+0200
TZNAME:CEST
DTSTART:20240331T010000
END:DAYLIGHT
BEGIN:STANDARD
TZOFFSETFROM:+0200
TZOFFSETTO:+0100
TZNAME:CET
DTSTART:20241027T010000
END:STANDARD
BEGIN:DAYLIGHT
TZOFFSETFROM:+0100
TZOFFSETTO:+0200
TZNAME:CEST
DTSTART:20250330T010000
END:DAYLIGHT
BEGIN:STANDARD
TZOFFSETFROM:+0200
TZOFFSETTO:+0100
TZNAME:CET
DTSTART:20251026T010000
END:STANDARD
BEGIN:DAYLIGHT
TZOFFSETFROM:+0100
TZOFFSETTO:+0200
TZNAME:CEST
DTSTART:20260329T010000
END:DAYLIGHT
BEGIN:STANDARD
TZOFFSETFROM:+0200
TZOFFSETTO:+0100
TZNAME:CET
DTSTART:20261025T010000
END:STANDARD
END:VTIMEZONE
BEGIN:VEVENT
DTSTART;TZID=Europe/Paris:20251130T140000
DTEND;TZID=Europe/Paris:20251130T170000
DTSTAMP:20260424T153800
CREATED:20251031T143442Z
LAST-MODIFIED:20251209T192532Z
UID:1420-1764511200-1764522000@bv-unglinghausen.de
SUMMARY:Onkelküser Dorfcafé - Zweite Ausgabe | Weihnachtsedition
DESCRIPTION:Anlässlich der Vorweihnachtszeit ist die zweite Ausgabe festlich ausgelegt. \n\n\n\nIhr dürft euch unter anderem über folgende Leckereien freuen:Mandarinen-Zimt-TorteMascarpone-Käsekuchen mit GlühweinkirschenSpekulatius-Apfel-BlechkuchenPflaumenpunschtorteund vieles Gutes mehr
URL:https://bv-unglinghausen.de/event/dorfcafe-unglinghausen-vol-2-weihnachtsedition/
LOCATION:Bürgerbegegnungsstätte Unglinghausen\, Hauptstraße 54\, Netphen\, 57250\, Deutschland
END:VEVENT
END:VCALENDAR