BEGIN:VCALENDAR
VERSION:2.0
PRODID:-//Bürgerverein Unglinghausen - ECPv6.15.20//NONSGML v1.0//EN
CALSCALE:GREGORIAN
METHOD:PUBLISH
X-WR-CALNAME:Bürgerverein Unglinghausen
X-ORIGINAL-URL:https://bv-unglinghausen.de
X-WR-CALDESC:Veranstaltungen für Bürgerverein Unglinghausen
REFRESH-INTERVAL;VALUE=DURATION:PT1H
X-Robots-Tag:noindex
X-PUBLISHED-TTL:PT1H
BEGIN:VTIMEZONE
TZID:Europe/Paris
BEGIN:DAYLIGHT
TZOFFSETFROM:+0100
TZOFFSETTO:+0200
TZNAME:CEST
DTSTART:20250330T010000
END:DAYLIGHT
BEGIN:STANDARD
TZOFFSETFROM:+0200
TZOFFSETTO:+0100
TZNAME:CET
DTSTART:20251026T010000
END:STANDARD
BEGIN:DAYLIGHT
TZOFFSETFROM:+0100
TZOFFSETTO:+0200
TZNAME:CEST
DTSTART:20260329T010000
END:DAYLIGHT
BEGIN:STANDARD
TZOFFSETFROM:+0200
TZOFFSETTO:+0100
TZNAME:CET
DTSTART:20261025T010000
END:STANDARD
BEGIN:DAYLIGHT
TZOFFSETFROM:+0100
TZOFFSETTO:+0200
TZNAME:CEST
DTSTART:20270328T010000
END:DAYLIGHT
BEGIN:STANDARD
TZOFFSETFROM:+0200
TZOFFSETTO:+0100
TZNAME:CET
DTSTART:20271031T010000
END:STANDARD
END:VTIMEZONE
BEGIN:VEVENT
DTSTART;TZID=Europe/Paris:20260306T190000
DTEND;TZID=Europe/Paris:20260306T230000
DTSTAMP:20260424T084016
CREATED:20260222T191812Z
LAST-MODIFIED:20260225T094804Z
UID:1554-1772823600-1772838000@bv-unglinghausen.de
SUMMARY:Bürgerstube kulinarisch
DESCRIPTION:Für die nächste Ausgabe von „Bürgerstube kulinarisch“ haben wir nach der leckeren Linsensuppe\, eine wahre Köstlichkeit im Angebot. Es wurden keine Kosten und Mühen gespart\, um leckeres Schichtfleisch aus dem Dutch Oven anzubieten. \n\n\n\nLasst euch diesen Abend nicht entgehen!
URL:https://bv-unglinghausen.de/event/buergerstube-kulinarisch/
LOCATION:Bürgerbegegnungsstätte Unglinghausen\, Hauptstraße 54\, Netphen\, 57250\, Deutschland
END:VEVENT
BEGIN:VEVENT
DTSTART;TZID=Europe/Paris:20260322T140000
DTEND;TZID=Europe/Paris:20260322T170000
DTSTAMP:20260424T084016
CREATED:20260126T160344Z
LAST-MODIFIED:20260320T144830Z
UID:1529-1774188000-1774198800@bv-unglinghausen.de
SUMMARY:Onkelküser Dorfcafé – Sechste Ausgabe
DESCRIPTION:Kommenden Sonntag findet die sechste Ausgabe des Onkelküser Dorfcafés statt. Ab 14 Uhr werden wieder die Türen geöffnet und es erwartet euch ein reichhaltiges Buffet an Kuchen und feinsten Torten. Dieses mal haben unsere Konditorinnen folgende Spezialitäten im Portfolio: \n\n\n\n\nSchwarzwälder Kirschtorte\n\n\n\nSchoko-Sahne-Torte\n\n\n\nMarmorkuchen\n\n\n\ngedeckter Apfelkuchen\n\n\n\nRüblitorte\n\n\n\nKäsekuchen\n\n\n\n\nNur solange der Vorrat reicht!(Der bei der letzten Ausgabe schon früh ausverkauft war!)
URL:https://bv-unglinghausen.de/event/onkelkueser-dorfcafe-sechste-ausgabe/
LOCATION:Bürgerbegegnungsstätte Unglinghausen\, Hauptstraße 54\, Netphen\, 57250\, Deutschland
END:VEVENT
BEGIN:VEVENT
DTSTART;TZID=Europe/Paris:20260328T080000
DTEND;TZID=Europe/Paris:20260328T170000
DTSTAMP:20260424T084016
CREATED:20251209T191944Z
LAST-MODIFIED:20260221T094030Z
UID:1448-1774684800-1774717200@bv-unglinghausen.de
SUMMARY:Dorfaktionstag
DESCRIPTION:
URL:https://bv-unglinghausen.de/event/dorfaktionstag-3/
LOCATION:Bürgerbegegnungsstätte Unglinghausen\, Hauptstraße 54\, Netphen\, 57250\, Deutschland
END:VEVENT
END:VCALENDAR