BEGIN:VCALENDAR
VERSION:2.0
PRODID:-//Bürgerverein Unglinghausen - ECPv6.15.20//NONSGML v1.0//EN
CALSCALE:GREGORIAN
METHOD:PUBLISH
X-ORIGINAL-URL:https://bv-unglinghausen.de
X-WR-CALDESC:Veranstaltungen für Bürgerverein Unglinghausen
REFRESH-INTERVAL;VALUE=DURATION:PT1H
X-Robots-Tag:noindex
X-PUBLISHED-TTL:PT1H
BEGIN:VTIMEZONE
TZID:Europe/Paris
BEGIN:DAYLIGHT
TZOFFSETFROM:+0100
TZOFFSETTO:+0200
TZNAME:CEST
DTSTART:20250330T010000
END:DAYLIGHT
BEGIN:STANDARD
TZOFFSETFROM:+0200
TZOFFSETTO:+0100
TZNAME:CET
DTSTART:20251026T010000
END:STANDARD
BEGIN:DAYLIGHT
TZOFFSETFROM:+0100
TZOFFSETTO:+0200
TZNAME:CEST
DTSTART:20260329T010000
END:DAYLIGHT
BEGIN:STANDARD
TZOFFSETFROM:+0200
TZOFFSETTO:+0100
TZNAME:CET
DTSTART:20261025T010000
END:STANDARD
BEGIN:DAYLIGHT
TZOFFSETFROM:+0100
TZOFFSETTO:+0200
TZNAME:CEST
DTSTART:20270328T010000
END:DAYLIGHT
BEGIN:STANDARD
TZOFFSETFROM:+0200
TZOFFSETTO:+0100
TZNAME:CET
DTSTART:20271031T010000
END:STANDARD
END:VTIMEZONE
BEGIN:VEVENT
DTSTART;TZID=Europe/Paris:20260613T170000
DTEND;TZID=Europe/Paris:20260613T220000
DTSTAMP:20260424T102834
CREATED:20260119T161049Z
LAST-MODIFIED:20260119T161051Z
UID:1492-1781370000-1781388000@bv-unglinghausen.de
SUMMARY:Näh-Treff in der Bürgerstube
DESCRIPTION:
URL:https://bv-unglinghausen.de/event/naeh-treff-in-der-buergerstube-4/
LOCATION:Bürgerbegegnungsstätte Unglinghausen\, Hauptstraße 54\, Netphen\, 57250\, Deutschland
END:VEVENT
BEGIN:VEVENT
DTSTART;TZID=Europe/Paris:20260626T180000
DTEND;TZID=Europe/Paris:20260626T210000
DTSTAMP:20260424T102834
CREATED:20251209T192138Z
LAST-MODIFIED:20260325T150756Z
UID:1452-1782496800-1782507600@bv-unglinghausen.de
SUMMARY:Jahreshauptversammlung
DESCRIPTION:Nähere Informationen folgen im April 2026.
URL:https://bv-unglinghausen.de/event/jahreshauptversammlung-3/
LOCATION:Bürgerbegegnungsstätte Unglinghausen\, Hauptstraße 54\, Netphen\, 57250\, Deutschland
END:VEVENT
END:VCALENDAR